BEGIN:VCALENDAR
PRODID:-//AT Content Types//AT Event//EN
VERSION:1.0
BEGIN:VEVENT
DTSTART:20110505T160000Z
DTEND:20110505T190000Z
DCREATED:20110502T123820Z
UID:ATEvent-2b4ff2aad4e54645017ddaed3646b38d
SEQUENCE:0
LAST-MODIFIED:20210123T175850Z
SUMMARY:Bürgerversammlung - Altanschließer
DESCRIPTION:Wir müssen uns gegen die Bescheide des Abwasserzweckverba
 ndes wehren!
LOCATION:Lichterfelder Allee 91\, 14513 Teltow-Seehof im Restaurant "Kartoffelkiste"
PRIORITY:3
TRANSP:0
END:VEVENT
END:VCALENDAR
